Workbook

Sheet Gaussian Elimination
B1: x | C1: y | D1: z | E1: w | F1: k | H1: Row Operation | L1: Note
B2: 1 | C2: 1 | D2: 1 | E2: -1 | F2: 0
B3: 4 | C3: -1 | D3: 2 | E3: 3 | F3: -2 | H3: R2 | I3: to | J3: R2-4*R1 | L3: You must be careful to put in the '*' otherwise Excel changes it to R2 to R2-4 (which is 'illegal').
B4: 4 | C4: 1 | D4: 2 | E4: 1 | F4: 2 | H4: R3 | I4: to | J4: R3-4*R1
B5: 3 | C5: 2 | D5: 4 | E5: 5 | F5: -6 | H5: R4 | I5: to | J5: R4-3*R1 | L5: I put in the boxes after I do all the row operations… it is not necessary but good for presentation.
B7: =B2 -> 1 | C7: =C2 -> 1 | D7: =D2 -> 1 | E7: =E2 -> -1 | F7: =F2 -> 0
B8: =B3-4*B2 -> 0 | C8: =C3-4*C2 -> -5 | D8: =D3-4*D2 -> -2 | E8: =E3-4*E2 -> 7 | F8: =F3-4*F2 -> -2 | H8: R2 | I8: to | J8: R2/(-5) | L8: There is no rounding with fifths: 1/5 = 0.2.
B9: =B4-4*B2 -> 0 | C9: =C4-4*C2 -> -3 | D9: =D4-4*D2 -> -2 | E9: =E4-4*E2 -> 5 | F9: =F4-4*F2 -> 2 | H9: R3 | I9: to | J9: R3+3*R2'
B10: =B5-3*B2 -> 0 | C10: =C5-3*C2 -> -1 | D10: =D5-3*D2 -> 1 | E10: =E5-3*E2 -> 8 | F10: =F5-3*F2 -> -6 | H10: R4 | I10: to | J10: R4+R2'
B12: =B7 -> 1 | C12: =C7 -> 1 | D12: =D7 -> 1 | E12: =E7 -> -1 | F12: =F7 -> 0
C13: =C8/(-5) -> 1 | D13: =D8/(-5) -> 0.4 | E13: =E8/(-5) -> -1.4 | F13: =F8/(-5) -> 0.4
C14: =C9+3*C13 -> 0 | D14: =D9+3*D13 -> -0.8 | E14: =E9+3*E13 -> 0.8 | F14: =F9+3*F13 -> 3.2 | H14: R3 | I14: to | J14: R3/(-0.8)
C15: =C10+C13 -> 0 | D15: =D10+D13 -> 1.4 | E15: =E10+E13 -> 6.6 | F15: =F10+F13 -> -5.6 | H15: R4 | I15: to | J15: R4-1.4*R3'
B17: =B12 -> 1 | C17: =C12 -> 1 | D17: =D12 -> 1 | E17: =E12 -> -1 | F17: =F12 -> 0
C18: =C13 -> 1 | D18: =D13 -> 0.4 | E18: =E13 -> -1.4 | F18: =F13 -> 0.4
D19: =D14/(-0.8) -> 1 | E19: =E14/(-0.8) -> -1 | F19: =F14/(-0.8) -> -4
D20: =D15-1.4*D19 -> 0 | E20: =E15-1.4*E19 -> 8 | F20: =F15-1.4*F19 -> 0 | H20: R4 | I20: to | J20: R4/8
B22: =B17 -> 1 | C22: =C17 -> 1 | D22: =D17 -> 1 | E22: =E17 -> -1 | F22: =F17 -> 0
C23: =C18 -> 1 | D23: =D18 -> 0.4 | E23: =E18 -> -1.4 | F23: =F18 -> 0.4
D24: =D19 -> 1 | E24: =E19 -> -1 | F24: =F19 -> -4
E25: =E20/8 -> 1 | F25: =F20/2 -> 0
E27: w | F27: `= | G27: 0 | L27: I wouldn't necessarily do this part in Excel.
E28: z | F28: `= | G28: `-4+w | H28: =-4+G27 -> -4
E29: y | F29: `= | G29: 0.4-0.4z+1.4w | H29: =0.4-0.4*H28+1.4*G27 -> 2
E30: x | F30: `= | G30: 0-y-z+w | H30: =0-H29-H28+G27 -> 2

Sheet Gaussian with Shortcut
B1: x | C1: y | D1: z | E1: w | F1: k | H1: Row Operation | L1: Note
B2: 1 | C2: 1 | D2: 1 | E2: -1 | F2: 0
B3: 4 | C3: -1 | D3: 2 | E3: 3 | F3: -2 | H3: R2 | I3: to | J3: R2-4*R1 | L3: You must be careful to put in the '*' otherwise Excel changes it to R2 to R2-4 (which is 'illegal').
B4: 4 | C4: 1 | D4: 2 | E4: 1 | F4: 2 | H4: R3 | I4: to | J4: R3-4*R1
B5: 3 | C5: 2 | D5: 4 | E5: 5 | F5: -6 | H5: R4 | I5: to | J5: R4-3*R1 | L5: I put in the boxes after I do all the row operations… it is not necessary but good for presentation.
B7: =B2 -> 1 | C7: =C2 -> 1 | D7: =D2 -> 1 | E7: =E2 -> -1 | F7: =F2 -> 0 | L7: Here is the shortcut --- at this point we won't be using row 1 so I just highlight it and forget about it.
B8: =B3-4*B2 -> 0 | C8: =C3-4*C2 -> -5 | D8: =D3-4*D2 -> -2 | E8: =E3-4*E2 -> 7 | F8: =F3-4*F2 -> -2 | H8: R2 | I8: to | J8: R2/(-5) | L8: There is no rounding with fifths: 1/5 = 0.2.
B9: =B4-4*B2 -> 0 | C9: =C4-4*C2 -> -3 | D9: =D4-4*D2 -> -2 | E9: =E4-4*E2 -> 5 | F9: =F4-4*F2 -> 2 | H9: R3 | I9: to | J9: R3+3*R2'
B10: =B5-3*B2 -> 0 | C10: =C5-3*C2 -> -1 | D10: =D5-3*D2 -> 1 | E10: =E5-3*E2 -> 8 | F10: =F5-3*F2 -> -6 | H10: R4 | I10: to | J10: R4+R2'
C12: =C8/(-5) -> 1 | D12: =D8/(-5) -> 0.4 | E12: =E8/(-5) -> -1.4 | F12: =F8/(-5) -> 0.4
C13: =C9+3*C12 -> 0 | D13: =D9+3*D12 -> -0.8 | E13: =E9+3*E12 -> 0.8 | F13: =F9+3*F12 -> 3.2 | H13: R3 | I13: to | J13: R3/(-0.8)
C14: =C10+C12 -> 0 | D14: =D10+D12 -> 1.4 | E14: =E10+E12 -> 6.6 | F14: =F10+F12 -> -5.6 | H14: R4 | I14: to | J14: R4-1.4*R3'
D16: =D13/(-0.8) -> 1 | E16: =E13/(-0.8) -> -1 | F16: =F13/(-0.8) -> -4
D17: =D14-1.4*D16 -> 0 | E17: =E14-1.4*E16 -> 8 | F17: =F14-1.4*F16 -> 0 | H17: R4 | I17: to | J17: R4/8
E19: =E17/8 -> 1 | F19: =F17/8 -> 0
B21: =B7 -> 1 | C21: =C7 -> 1 | D21: =D7 -> 1 | E21: =E7 -> -1 | F21: =F7 -> 0 | L21: Here I put all the rows back togeteher --- again just for good presentation.
C22: =C12 -> 1 | D22: =D12 -> 0.4 | E22: =E12 -> -1.4 | F22: =F12 -> 0.4
D23: =D16 -> 1 | E23: =E16 -> -1 | F23: =F16 -> -4
E24: =E19 -> 1 | F24: =F19 -> 0
L26: The ending is the same as 'Gaussian Elimination'.

Sheet Partial Pivoting
B1: x | C1: y | D1: z | E1: k | G1: Row Operation | K1: Note
B2: 2 | C2: 3 | D2: 7 | E2: 14 | G2: R1 | H2: <-> | I2: R2 | K2: Just suppose that the question asked for two places of decimals.
B3: 6 | C3: 15 | D3: 9 | E3: 36 | K3: The 'k' here is for constants.
B4: 4 | C4: 15 | D4: 9 | E4: 32 | K4: Here I don't have a 'big' pivot in the (1,1) entry so I swap rows R1 and R2
B6: =B3 -> 6 | C6: =C3 -> 15 | D6: =D3 -> 9 | E6: =E3 -> 36 | G6: R1 | H6: to | I6: R1/6
B7: ='Partial Pivoting'!B2 -> 2 | C7: ='Partial Pivoting'!C2 -> 3 | D7: ='Partial Pivoting'!D2 -> 7 | E7: ='Partial Pivoting'!E2 -> 14 | G7: R2 | H7: to | I7: R2-2*R1' | K7: You must be careful to put in the '*' otherwise Excel changes it to R2 to R2-4 (which is 'illegal').
B8: =B4 -> 4 | C8: =C4 -> 15 | D8: =D4 -> 9 | E8: =E4 -> 32 | G8: R3 | H8: to | I8: R3-4*R1' | K8: I put in the boxes after I do all the row operations… it is not necessary but good for presentation.
B10: =B6/6 -> 1 | C10: =C6/6 -> 2.5 | D10: =D6/6 -> 1.5 | E10: =E6/6 -> 6
B11: =B7-2*B10 -> 0 | C11: =C7-2*C10 -> -2 | D11: =D7-2*D10 -> 4 | E11: =E7-2*E10 -> 2 | G11: R2 | H11: <-> | I11: R3 | K11: Here I don't have a 'big' pivot in the (2,2) entry so I swap rows R2 and R3 to get the 'big' 5 in that position.
B12: =B8-4*B10 -> 0 | C12: =C8-4*C10 -> 5 | D12: =D8-4*D10 -> 3 | E12: =E8-4*E10 -> 8 | K12: I have to do this 'pivoting' when I am rounding (in this example I have rounded everything to two decimal places)
B14: =B10 -> 1 | C14: =C10 -> 2.5 | D14: =D10 -> 1.5 | E14: =E10 -> 6
C15: =C12 -> 5 | D15: =D12 -> 3 | E15: =E12 -> 8 | G15: R2 | H15: to | I15: R2/5
C16: =C11 -> -2 | D16: =D11 -> 4 | E16: =E11 -> 2 | G16: R3 | H16: to | I16: R3+2*R2
B18: =B14 -> 1 | C18: =C14 -> 2.5 | D18: =D14 -> 1.5 | E18: =E14 -> 6
C19: =C15/5 -> 1 | D19: =D15/5 -> 0.6 | E19: =E15/5 -> 1.6
C20: =C16+2*C19 -> 0 | D20: =D16+2*D19 -> 5.2 | E20: =E16+2*E19 -> 5.2 | G20: R3 | H20: to | I20: R3/5.20
B22: =B18 -> 1 | C22: =C18 -> 2.5 | D22: =D18 -> 1.5 | E22: =E18 -> 6
B23: =B19 -> 0 | C23: =C19 -> 1 | D23: =D19 -> 0.6 | E23: =E19 -> 1.6
D24: =D20/5.2 -> 1 | E24: =E20/5.2 -> 1
K25: I wouldn't necessarily do this part in Excel.
D26: z | E26: `= | F26: 1
D27: y | E27: `= | F27: 1.6-0.6*z | G27: `= | H27: =1.6-0.6*1 -> 1
D28: x | E28: `= | F28: 6-2.5*y-1.5*z | G28: `= | H28: =6-2.5*1-1.5*1 -> 2
K42: I wouldn't necessarily do this part in Excel.

Sheet Partial with Shortcut
B1: x | C1: y | D1: z | E1: k | G1: Row Operation | K1: Note
B2: 2 | C2: 3 | D2: 7 | E2: 14 | G2: R1 | H2: <-> | I2: R2 | K2: Just suppose that the question asked for two places of decimals.
B3: 6 | C3: 15 | D3: 9 | E3: 36 | K3: The 'k' here is for constants.
B4: 4 | C4: 15 | D4: 9 | E4: 32 | K4: Here I don't have a 'big' pivot in the (1,1) entry so I swap rows R1 and R2
B6: =B3 -> 6 | C6: =C3 -> 15 | D6: =D3 -> 9 | E6: =E3 -> 36 | G6: R1 | H6: to | I6: R1/6
B7: ='Partial Pivoting'!B2 -> 2 | C7: ='Partial Pivoting'!C2 -> 3 | D7: ='Partial Pivoting'!D2 -> 7 | E7: ='Partial Pivoting'!E2 -> 14 | G7: R2 | H7: to | I7: R2-2*R1' | K7: You must be careful to put in the '*' otherwise Excel changes it to R2 to R2-4 (which is 'illegal').
B8: =B4 -> 4 | C8: =C4 -> 15 | D8: =D4 -> 9 | E8: =E4 -> 32 | G8: R3 | H8: to | I8: R3-4*R1' | K8: I put in the boxes after I do all the row operations… it is not necessary but good for presentation.
B10: =B6/6 -> 1 | C10: =C6/6 -> 2.5 | D10: =D6/6 -> 1.5 | E10: =E6/6 -> 6
B11: =B7-2*B10 -> 0 | C11: =C7-2*C10 -> -2 | D11: =D7-2*D10 -> 4 | E11: =E7-2*E10 -> 2 | G11: R2 | H11: <-> | I11: R3 | K11: Here I don't have a 'big' pivot in the (2,2) entry so I swap rows R2 and R3 to get the 'big' 5 in that position.
B12: =B8-4*B10 -> 0 | C12: =C8-4*C10 -> 5 | D12: =D8-4*D10 -> 3 | E12: =E8-4*E10 -> 8 | K12: I have to do this 'pivoting' when I am rounding (in this example I have rounded everything to two decimal places)
C14: =C12 -> 5 | D14: =D12 -> 3 | E14: =E12 -> 8 | G14: R2 | H14: to | I14: R2/5
C15: =C11 -> -2 | D15: =D11 -> 4 | E15: =E11 -> 2 | G15: R3 | H15: to | I15: R3+2*R2
C17: =C14/5 -> 1 | D17: =D14/5 -> 0.6 | E17: =E14/5 -> 1.6
C18: =C15+2*C17 -> 0 | D18: =D15+2*D17 -> 5.2 | E18: =E15+2*E17 -> 5.2 | G18: R3 | H18: to | I18: R3/5.20
D20: =D18/5.2 -> 1 | E20: =E18/5.2 -> 1
B22: =B10 -> 1 | C22: =C10 -> 2.5 | D22: =D10 -> 1.5 | E22: =E10 -> 6 | K22: Here I put all the rows back togeteher --- again just for good presentation.
C23: =C17 -> 1 | D23: =D17 -> 0.6 | E23: =E17 -> 1.6
D24: =D20 -> 1 | E24: =E20 -> 1
D26: z | E26: `= | F26: 1 | K26: The ending is the same as 'Partial Pivoting'.
D27: y | E27: `= | F27: 1.6-0.6*z | G27: `= | H27: =1.6-0.6*1 -> 1
D28: x | E28: `= | F28: 6-2.5*y-1.5*z | G28: `= | H28: =6-2.5*1-1.5*1 -> 2
K42: I wouldn't necessarily do this part in Excel.

Sheet P.41 Example
B2: x_1 | C2: x_2 | D2: x_3 | E2: x_4 | F2: k
B3: 4 | C3: -1 | D3: -1 | E3: 0 | F3: 45
B4: -1 | C4: 4 | D4: 0 | E4: -1 | F4: 40
B5: -1 | C5: 0 | D5: 4 | E5: -1 | F5: 55
B6: 0 | C6: -1 | D6: -1 | E6: 4 | F6: 50
B8: =B3/4 -> 1 | C8: =C3/4 -> -0.25 | D8: =D3/4 -> -0.25 | E8: =E3/4 -> 0 | F8: =F3/4 -> 11.25
B9: =B4+B8 -> 0 | C9: =C4+C8 -> 3.75 | D9: =D4+D8 -> -0.25 | E9: =E4+E8 -> -1 | F9: =F4+F8 -> 51.25
B10: =B5+B8 -> 0 | C10: =C5+C8 -> -0.25 | D10: =D5+D8 -> 3.75 | E10: =E5+E8 -> -1 | F10: =F5+F8 -> 66.25
B11: =B6 -> 0 | C11: =C6 -> -1 | D11: =D6 -> -1 | E11: =E6 -> 4 | F11: =F6 -> 50
B13: =B8 -> 1 | C13: =C8 -> -0.25 | D13: =D8 -> -0.25 | E13: =E8 -> 0 | F13: =F8 -> 11.25
C14: =C9/3.75 -> 1 | D14: =D9/3.75 -> -0.066666667 | E14: =E9/3.75 -> -0.26666667 | F14: =F9/3.75 -> 13.666667
C15: =C10+0.25*C14 -> 0 | D15: =D10+0.25*D14 -> 3.7333333 | E15: =E10+0.25*E14 -> -1.0666667 | F15: =F10+0.25*F14 -> 69.666667
C16: =C11+C14 -> 0 | D16: =D11+D14 -> -1.0666667 | E16: =E11+E14 -> 3.7333333 | F16: =F11+F14 -> 63.666667
B18: =B13 -> 1 | C18: =C13 -> -0.25 | D18: =D13 -> -0.25 | E18: =E13 -> 0 | F18: =F13 -> 11.25
B19: =B14 -> 0 | C19: =C14 -> 1 | D19: =D14 -> -0.066666667 | E19: =E14 -> -0.26666667 | F19: =F14 -> 13.666667
D20: =D15/3.73 -> 1.0008937 | E20: =E15/3.73 -> -0.28596962 | F20: =F15/3.73 -> 18.677391
D21: =D16+1.07*D20 -> 0.0042895442 | E21: =E16+1.07*E20 -> 3.4273458 | F21: =F16+1.07*F20 -> 83.651475
B23: =B18 -> 1 | C23: =C18 -> -0.25 | D23: =D18 -> -0.25 | E23: =E18 -> 0 | F23: =F18 -> 11.25
B24: =B19 -> 0 | C24: =C19 -> 1 | D24: =D19 -> -0.066666667 | E24: =E19 -> -0.26666667 | F24: =F19 -> 13.666667
B25: =B20 -> 0 | C25: =C20 -> 0 | D25: =D20 -> 1.0008937 | E25: =E20 -> -0.28596962 | F25: =F20 -> 18.677391
E26: =E21/3.43 -> 0.99922619 | F26: =F21/3.43 -> 24.388185
E28: x_4 | F28: `= | G28: 24.39
E29: x_3 | F29: `= | G29: 18.68+0.29x_4 | H29: `= | I29: =18.68+0.29*G28 -> 25.7531
E30: x_2 | F30: `= | G30: 13.67+0.07x_3+0.27x_4 | H30: `= | I30: =13.67+0.07*I29+0.27*G28 -> 22.058017
E31: x_1 | F31: `= | G31: 11.25+0.25x_2+0.25x_3 | H31: `= | I31: =11.25+0.25*I30+0.25*I29 -> 23.202779
